BEGIN:VCALENDAR
VERSION:2.0
PRODID:-//STADTKULTUR HAMBURG//kultur-hamburg.de///DE
CALSCALE:GREGORIAN
BEGIN:VEVENT
X-WR-TIMEZONE:Europe/Berlin
DTSTART:20190818T120000
DTEND:20190818T140000
LOCATION:Nachbarschaftstreff \, Eißendorfer Str. 124 \, 21073 Hamburg
DTSTAMP:20260419T213407
SUMMARY:Kunstleihe Hamburg-Harburg
URL;VALUE=URI:https://www.kultur-hamburg.de/veranstaltungen/kunstleihe-hamburg-harburg-446432
DESCRIPTION:Die Kunstleihe HH-Harburg bietet eine große Auswahl an vorwiegend lokaler Kunst aus Harburg. Verschi...
UID:1248a24181b307643be777ce60beda75@kulturhamburg
END:VEVENT
END:VCALENDAR