BEGIN:VCALENDAR
VERSION:2.0
PRODID:-//STADTKULTUR HAMBURG//kultur-hamburg.de///DE
CALSCALE:GREGORIAN
BEGIN:VEVENT
X-WR-TIMEZONE:Europe/Berlin
DTSTART:20190912T183000
DTEND:20190912T210000
LOCATION:Horner Freiheit \, Am Gojenboom 46 \, 22111 Hamburg
DTSTAMP:20260423T152119
SUMMARY:Katja Just - Barfuß auf dem Sommerdeich
URL;VALUE=URI:https://www.kultur-hamburg.de/veranstaltungen/katja-just-barfuss-auf-dem-sommerdeich-446458
DESCRIPTION:Die Bestsellerautorin und Bürgermeisterin liest aus Ihrem Sommerroman über ihr Leben zwischen 
Ebbe und Flut. "Die Hallig fasst einen auf eine wunderbare Art und Weise an und es ist ein Gschenk,
wenn man das aushalten kann.
UID:9ab116979a94a0b4c068e867aefc9e50@kulturhamburg
END:VEVENT
END:VCALENDAR