BEGIN:VCALENDAR
VERSION:2.0
PRODID:-//STADTKULTUR HAMBURG//kultur-hamburg.de///DE
CALSCALE:GREGORIAN
BEGIN:VEVENT
X-WR-TIMEZONE:Europe/Berlin
DTSTART:20190816T200000
DTEND:20190816T220000
LOCATION:B*Treff Altona-Nord \, Gefionstr.3 \, 22769 Hamburg
DTSTAMP:20260419T182103
SUMMARY:Wohlklang: Wochenend und Sonnenschein!
URL;VALUE=URI:https://www.kultur-hamburg.de/veranstaltungen/wohlklang-wochenend-und-sonnenschein!-446636
DESCRIPTION:Lachen Sie gern‘ und sind manchmal niveauvoll albern? Haben Sie Spaß an frechen Chansons? Lieben Sie schwungvolle Lieder? Träumen Sie zu stimmungsvoller Musik? Dann kommen Sie zu Wohlklang und lauschen Sie unseren Liedern.
UID:fc76071ec34ce4185b23e37f836d6096@kulturhamburg
END:VEVENT
END:VCALENDAR