BEGIN:VCALENDAR
VERSION:2.0
PRODID:-//STADTKULTUR HAMBURG//kultur-hamburg.de///DE
CALSCALE:GREGORIAN
BEGIN:VEVENT
X-WR-TIMEZONE:Europe/Berlin
DTSTART:20190831T200000
DTEND:20190831T220000
LOCATION:B*Treff Altona-Nord \, Gefionstr.3 \, 22769 Hamburg
DTSTAMP:20260422T190805
SUMMARY:7. Lange Impro-Nacht
URL;VALUE=URI:https://www.kultur-hamburg.de/veranstaltungen/7.-lange-impro-nacht-446637
DESCRIPTION:Das Match!
UID:84818fbf6db7fe4e5bd16fe6a8578b4b@kulturhamburg
END:VEVENT
END:VCALENDAR