BEGIN:VCALENDAR
VERSION:2.0
PRODID:-//STADTKULTUR HAMBURG//kultur-hamburg.de///DE
CALSCALE:GREGORIAN
BEGIN:VEVENT
X-WR-TIMEZONE:Europe/Berlin
DTSTART:20190825T110000
DTEND:20190825T130000
LOCATION:Freizeitzentrum Schnelsen \, Wählingsallee 16 \, 22459 Hamburg
DTSTAMP:20260420T092543
SUMMARY:14. OpenAir Gottesdienst der Evangelischen Gemeinden in Schnelsen
URL;VALUE=URI:https://www.kultur-hamburg.de/veranstaltungen/14.-openair-gottesdienst-der-evangelischen-gemeinden-in-schnelsen-446642
DESCRIPTION:Seit über 10 Jahren Tradition – ein fröhlich ungezwungener
Gottesdienst vor dem Freizeitzentrum mit einer ganz
eigenen Atmosphäre.
UID:53ee1320f6774e6e40b483b672384cb4@kulturhamburg
END:VEVENT
END:VCALENDAR