BEGIN:VCALENDAR
VERSION:2.0
PRODID:-//STADTKULTUR HAMBURG//kultur-hamburg.de///DE
CALSCALE:GREGORIAN
BEGIN:VEVENT
X-WR-TIMEZONE:Europe/Berlin
DTSTART:20190903T160000
DTEND:20190903T180000
LOCATION:Freizeitzentrum Schnelsen \, Wählingsallee 16 \, 22459 Hamburg
DTSTAMP:20260423T002638
SUMMARY:Theater con Cuore: Ritter Rost
URL;VALUE=URI:https://www.kultur-hamburg.de/veranstaltungen/theater-con-cuore-ritter-rost-446643
DESCRIPTION:Artur hat es wirklich nicht einfach in seiner Bücherei. Pinkfarben eingebundene Feen- bücher mit Glitzer- und Glimmer- und Showeffekten möchten die Kunden. Und Kochbücher. Als wenn die ganze Welt am essen wäre. Doch für die wahren, echten Heldengeschichten mit überraschenden Wendungen zeigt niemand mehr Interesse.
UID:f00accde3725041eb0204831c035659e@kulturhamburg
END:VEVENT
END:VCALENDAR