BEGIN:VCALENDAR
VERSION:2.0
PRODID:-//STADTKULTUR HAMBURG//kultur-hamburg.de///DE
CALSCALE:GREGORIAN
BEGIN:VEVENT
X-WR-TIMEZONE:Europe/Berlin
DTSTART:20190903T193000
DTEND:20190903T213000
LOCATION:Freizeitzentrum Schnelsen \, Wählingsallee 16 \, 22459 Hamburg
DTSTAMP:20260423T001831
SUMMARY:Small Steps - They keep West Africa going
URL;VALUE=URI:https://www.kultur-hamburg.de/veranstaltungen/small-steps-they-keep-west-africa-going-446644
DESCRIPTION:Dokumentarfilm von Marie Charlier – in Zusammenarbeit mit der Gambia Solidarität im Verein Avanti!
Seit 1983 engagiert sich die »Gambia Association of the Phisically Disabled« (GAPD) im kleinsten Land auf dem afrikanischen Kontinent für die Rechte von Menschen mit körperlichen Handicaps. Seit 1989 verfügt sie über eine eigene orthopädische Werkstatt, die Patienten aus ganz Westafrika mit Prothesen und Rollstühlen versorgt.
UID:9fbaa33d91825521b4313a3add040d48@kulturhamburg
END:VEVENT
END:VCALENDAR