BEGIN:VCALENDAR
VERSION:2.0
PRODID:-//STADTKULTUR HAMBURG//kultur-hamburg.de///DE
CALSCALE:GREGORIAN
BEGIN:VEVENT
X-WR-TIMEZONE:Europe/Berlin
DTSTART:20190913T180000
DTEND:20190913T203000
LOCATION:Freizeitzentrum Schnelsen \, Wählingsallee 16 \, 22459 Hamburg
DTSTAMP:20260423T170103
SUMMARY:KauFRAUsch
URL;VALUE=URI:https://www.kultur-hamburg.de/veranstaltungen/kaufrausch-446645
DESCRIPTION:KauFRAUsch: Flohmarkt von Frau zu Frau – mit Prosecco und leckeren Snacks.
Die Standfläche von 2,10m x 0,70m mit von uns gestellten Tischen kostet € 20,00. Zusätzliche Ständer, sperrige Gegenstände kosten  € 2,50 extra. Anmeldung ab 11.06.2019 im Büro des FZS
UID:d6bcf3055acf22e42c55f3c4280af8b9@kulturhamburg
END:VEVENT
END:VCALENDAR