BEGIN:VCALENDAR
VERSION:2.0
PRODID:-//STADTKULTUR HAMBURG//kultur-hamburg.de///DE
CALSCALE:GREGORIAN
BEGIN:VEVENT
X-WR-TIMEZONE:Europe/Berlin
DTSTART:20190914T100000
DTEND:20190914T130000
LOCATION:Freizeitzentrum Schnelsen \, Wählingsallee 16 \, 22459 Hamburg
DTSTAMP:20260423T182932
SUMMARY:Secondhandmarkt Rund ums Kind
URL;VALUE=URI:https://www.kultur-hamburg.de/veranstaltungen/secondhandmarkt-rund-ums-kind-446646
DESCRIPTION:Secondhandmarkt rund ums Kind bis 13.00 Uhr
Schnäppchen machen, stöbern, schnacken. Die Standfläche von 2,10m x 0,70m mit von uns gestellten Tischen kostet € 20,00. Zusätzliche Ständer, sperrige Gegenstände kosten € 2,50 extra. Anmeldung ab 11.06.2019 im Büro des FZS
UID:3e461752081863650c15b38a1a172ddf@kulturhamburg
END:VEVENT
END:VCALENDAR