BEGIN:VCALENDAR
VERSION:2.0
PRODID:-//STADTKULTUR HAMBURG//kultur-hamburg.de///DE
CALSCALE:GREGORIAN
BEGIN:VEVENT
X-WR-TIMEZONE:Europe/Berlin
DTSTART:20190917T200000
DTEND:20190917T220000
LOCATION:Freizeitzentrum Schnelsen \, Wählingsallee 16 \, 22459 Hamburg
DTSTAMP:20260423T230240
SUMMARY:Nagelritz
URL;VALUE=URI:https://www.kultur-hamburg.de/veranstaltungen/nagelritz-446647
DESCRIPTION:Expedition Mond
Ob die brodelnde See am Äquator, Menschenfresser mit Tischmanieren oder wie Geschlechtskrankheiten der erste Schritt zu einer globaleren Welt wurden, das haben Seeleute alles entdeckt. In seinem neuen Programm erinnert sich Nagelritz an seine Aufgabe als Seemann die Fremde zu erforschen und sie nach Hause zu bringen. Denn ohne die Tätowierungen aus Asien kein Arschgeweih, ohne die südamerikanischen Kartoffeln kein Mc Donalds und ohne leere Flaschen keine Post. Was hat die Gesellschaft den Matrosen nicht alles zu verdanken? Ein Expeditionsprogramm mit Comedy, Musik und einer Tierdressur.
www.nagelritz.de
UID:939348f0ed4ec11e3dc27f2ad8bbe6d8@kulturhamburg
END:VEVENT
END:VCALENDAR