BEGIN:VCALENDAR
VERSION:2.0
PRODID:-//STADTKULTUR HAMBURG//kultur-hamburg.de///DE
CALSCALE:GREGORIAN
BEGIN:VEVENT
X-WR-TIMEZONE:Europe/Berlin
DTSTART:20190831T100000
DTEND:20190901T210000
LOCATION:HipHop Academy \, Öjendorfer Weg 30a \, 22119 Hamburg
DTSTAMP:20260422T190709
SUMMARY:Battlefield 2019
URL;VALUE=URI:https://www.kultur-hamburg.de/veranstaltungen/battlefield-2019-447131
DESCRIPTION:Das Battlefield - die Urban Dance Competition - zählt zu den größten Tanzevents Deutschlands und bringt eine erlesene Auswahl der weltbesten Tänzer*innen und DJs der Hip Hop Szene nach Hamburg, darunter zahlreiche Gewinner*innen der weltgrößten Battles, wie dem Juste Debout, Red Bull BC One und Battle of the Year.
UID:272454b60e1e396c260de6da1719ab97@kulturhamburg
END:VEVENT
END:VCALENDAR