BEGIN:VCALENDAR
VERSION:2.0
PRODID:-//STADTKULTUR HAMBURG//kultur-hamburg.de///DE
CALSCALE:GREGORIAN
BEGIN:VEVENT
X-WR-TIMEZONE:Europe/Berlin
DTSTART:20190830T200000
DTEND:20190830T220000
LOCATION:LOLA Kulturzentrum \, Lohbrügger Landstraße 8 \, 21031 Hamburg
DTSTAMP:20260422T173212
SUMMARY:Lolkalrunde
URL;VALUE=URI:https://www.kultur-hamburg.de/veranstaltungen/lolkalrunde-447234
DESCRIPTION:Mit: Recessions, Johnny Schewski, Wir waren Indie & Das Budapester Orchester und AussenBorder
UID:34842de29a825671e68c05148bc86b00@kulturhamburg
END:VEVENT
END:VCALENDAR