BEGIN:VCALENDAR
VERSION:2.0
PRODID:-//STADTKULTUR HAMBURG//kultur-hamburg.de///DE
CALSCALE:GREGORIAN
BEGIN:VEVENT
X-WR-TIMEZONE:Europe/Berlin
DTSTART:20190901T120000
DTEND:20190901T173000
LOCATION:Leuschnerpark \, Leuschnerpark \, 21031 Hamburg
DTSTAMP:20260422T204629
SUMMARY:6. Lohbrügger Seifenkistenrennen
URL;VALUE=URI:https://www.kultur-hamburg.de/veranstaltungen/6.-lohbruegger-seifenkistenrennen-447235
DESCRIPTION:Familienfest im Leuschnerpark
UID:2267f0963529d58ad7db2482912a1b22@kulturhamburg
END:VEVENT
END:VCALENDAR