BEGIN:VCALENDAR
VERSION:2.0
PRODID:-//STADTKULTUR HAMBURG//kultur-hamburg.de///DE
CALSCALE:GREGORIAN
BEGIN:VEVENT
X-WR-TIMEZONE:Europe/Berlin
DTSTART:20190906T200000
DTEND:20190906T230000
LOCATION:Kulturladen St.Georg e.V. \, Alexanderstr.16 \, 20099 Hamburg
DTSTAMP:20260423T051254
SUMMARY:Open Stage in St.Georg
URL;VALUE=URI:https://www.kultur-hamburg.de/veranstaltungen/open-stage-in-st.georg-447575
DESCRIPTION:
UID:bd510bc8f0b2d493e7921eef754d02f5@kulturhamburg
END:VEVENT
END:VCALENDAR