BEGIN:VCALENDAR
VERSION:2.0
PRODID:-//STADTKULTUR HAMBURG//kultur-hamburg.de///DE
CALSCALE:GREGORIAN
BEGIN:VEVENT
X-WR-TIMEZONE:Europe/Berlin
DTSTART:20190825T200000
DTEND:20190825T220000
LOCATION:Kulturschloss Wandsbek \, Königsreihe 4 \, 22041 Hamburg
DTSTAMP:20260422T111326
SUMMARY:„SONGS & WHISPERS“ presents @ Kulturschloss: Robert Carl Blank
URL;VALUE=URI:https://www.kultur-hamburg.de/veranstaltungen/songs-&-whispers-presents--kulturschloss-robert-carl-blank-447789
DESCRIPTION:Das Konzert findet im Rahmen einer Konzertreihe statt, die von „SONGS & WHISPERS“ präsentiert wird. An insgesamt zehn Sonntagen in 2019 bieten wir Euch die Möglichkeit, gegen eine Spende hochwertige Musik zu hören.
UID:b23106fdb6075234309d2e65b7795030@kulturhamburg
END:VEVENT
END:VCALENDAR