BEGIN:VCALENDAR
VERSION:2.0
PRODID:-//STADTKULTUR HAMBURG//kultur-hamburg.de///DE
CALSCALE:GREGORIAN
BEGIN:VEVENT
X-WR-TIMEZONE:Europe/Berlin
DTSTART:20190823T153000
DTEND:20190823T163000
LOCATION:
DTSTAMP:20260420T055017
SUMMARY:Das Klingende Mobil
URL;VALUE=URI:https://www.kultur-hamburg.de/veranstaltungen/das-klingende-mobil-447919
DESCRIPTION:Die Elbphilharmonie auf vier Rädern für Familien und Kleingruppen
UID:5a23ad66a495520f0b441832c0b024b0@kulturhamburg
END:VEVENT
END:VCALENDAR