BEGIN:VCALENDAR
VERSION:2.0
PRODID:-//STADTKULTUR HAMBURG//kultur-hamburg.de///DE
CALSCALE:GREGORIAN
BEGIN:VEVENT
X-WR-TIMEZONE:Europe/Berlin
DTSTART:20190901T160000
DTEND:20190901T173000
LOCATION:
DTSTAMP:20260422T204732
SUMMARY:Kaffeehausmusik
URL;VALUE=URI:https://www.kultur-hamburg.de/veranstaltungen/kaffeehausmusik-447940
DESCRIPTION:Salonmusik und Klassik mit Wiener Charme und Humor
UID:3b7bcaa2f374c3edcf80cd38769cdb81@kulturhamburg
END:VEVENT
END:VCALENDAR