BEGIN:VCALENDAR
VERSION:2.0
PRODID:-//STADTKULTUR HAMBURG//kultur-hamburg.de///DE
CALSCALE:GREGORIAN
BEGIN:VEVENT
X-WR-TIMEZONE:Europe/Berlin
DTSTART:20190824T150000
DTEND:20190824T180000
LOCATION:
DTSTAMP:20260420T073944
SUMMARY:Tour de Eidelstedt
URL;VALUE=URI:https://www.kultur-hamburg.de/veranstaltungen/tour-de-eidelstedt-447942
DESCRIPTION:Fahrradausflug mit dem Heimatmuseum rund um den Stadtteil
UID:9c99d68133dac53be14cbfbc74d1ff58@kulturhamburg
END:VEVENT
END:VCALENDAR