BEGIN:VCALENDAR
VERSION:2.0
PRODID:-//STADTKULTUR HAMBURG//kultur-hamburg.de///DE
CALSCALE:GREGORIAN
BEGIN:VEVENT
X-WR-TIMEZONE:Europe/Berlin
DTSTART:20190906T150000
DTEND:20190906T160000
LOCATION:
DTSTAMP:20260423T051155
SUMMARY:Gordon und Tapir
URL;VALUE=URI:https://www.kultur-hamburg.de/veranstaltungen/gordon-und-tapir-447944
DESCRIPTION:Ein Figurenspiel von und mit Nicole Gospodarek
UID:9b46378397d6d9c32b11b9587db59b1f@kulturhamburg
END:VEVENT
END:VCALENDAR