BEGIN:VCALENDAR
VERSION:2.0
PRODID:-//STADTKULTUR HAMBURG//kultur-hamburg.de///DE
CALSCALE:GREGORIAN
BEGIN:VEVENT
X-WR-TIMEZONE:Europe/Berlin
DTSTART:20190911T190000
DTEND:20190911T210000
LOCATION:
DTSTAMP:20260423T133715
SUMMARY:Eidelstedter Poeten
URL;VALUE=URI:https://www.kultur-hamburg.de/veranstaltungen/eidelstedter-poeten-447946
DESCRIPTION:Die offene und etwas andere Lesebühne im Norden Hamburgs!
UID:a101464e01627dceb99773d11355efa3@kulturhamburg
END:VEVENT
END:VCALENDAR