BEGIN:VCALENDAR
VERSION:2.0
PRODID:-//STADTKULTUR HAMBURG//kultur-hamburg.de///DE
CALSCALE:GREGORIAN
BEGIN:VEVENT
X-WR-TIMEZONE:Europe/Berlin
DTSTART:20190918T140000
DTEND:20190918T160000
LOCATION:
DTSTAMP:20260424T004318
SUMMARY:Thilda & die beste Band der Welt
URL;VALUE=URI:https://www.kultur-hamburg.de/veranstaltungen/thilda-&-die-beste-band-der-welt-447947
DESCRIPTION:Kinderkino ab 8 Jahren, Spielfilm N 2018, 94 Minuten
UID:4677aa4527fbb1bcdc2a8796f2ba33d0@kulturhamburg
END:VEVENT
END:VCALENDAR