BEGIN:VCALENDAR
VERSION:2.0
PRODID:-//STADTKULTUR HAMBURG//kultur-hamburg.de///DE
CALSCALE:GREGORIAN
BEGIN:VEVENT
X-WR-TIMEZONE:Europe/Berlin
DTSTART:20190914T150000
DTEND:20190914T170000
LOCATION:
DTSTAMP:20260423T182821
SUMMARY:Fahrradrundfahrt mit dem Heimatmuseum
URL;VALUE=URI:https://www.kultur-hamburg.de/veranstaltungen/fahrradrundfahrt-mit-dem-heimatmuseum-447948
DESCRIPTION:Durch das Industriegebiet von Eidelstedt
UID:53b143623b7ac1d43a0e6f366713d438@kulturhamburg
END:VEVENT
END:VCALENDAR