BEGIN:VCALENDAR
VERSION:2.0
PRODID:-//STADTKULTUR HAMBURG//kultur-hamburg.de///DE
CALSCALE:GREGORIAN
BEGIN:VEVENT
X-WR-TIMEZONE:Europe/Berlin
DTSTART:20190922T120000
DTEND:20190922T170000
LOCATION:
DTSTAMP:20260424T065925
SUMMARY:Fest zum Weltkindertag
URL;VALUE=URI:https://www.kultur-hamburg.de/veranstaltungen/fest-zum-weltkindertag-447950
DESCRIPTION:Das große Familienfest mit Spielmeile und Open-Air-Bühne
UID:2e3aaad748e2e90d82f305bdf7463337@kulturhamburg
END:VEVENT
END:VCALENDAR