BEGIN:VCALENDAR
VERSION:2.0
PRODID:-//STADTKULTUR HAMBURG//kultur-hamburg.de///DE
CALSCALE:GREGORIAN
BEGIN:VEVENT
X-WR-TIMEZONE:Europe/Berlin
DTSTART:20190911T190000
DTEND:20190911T210000
LOCATION:C. Bechstein Centrum Hamburg \, Pumpen 8\, im Chilehaus \, 20095 Hamburg
DTSTAMP:20260423T133650
SUMMARY:Jaurena Ruf Quartett: Encuentros - Begegnungen.
URL;VALUE=URI:https://www.kultur-hamburg.de/veranstaltungen/jaurena-ruf-quartett-encuentros-begegnungen.-448355
DESCRIPTION:Konzert mit dem Grammy-Gewinner und Bandoneon-Meister Raúl Jaurena
UID:a28a4135203e35a305b051281d8480e4@kulturhamburg
END:VEVENT
END:VCALENDAR