BEGIN:VCALENDAR
VERSION:2.0
PRODID:-//STADTKULTUR HAMBURG//kultur-hamburg.de///DE
CALSCALE:GREGORIAN
BEGIN:VEVENT
X-WR-TIMEZONE:Europe/Berlin
DTSTART:20190906T190000
DTEND:20190906T203000
LOCATION:Alte Stadtschule Lübeck \, Falkenplatz 10 \, 23564 Lübeck
DTSTAMP:20260423T051155
SUMMARY:Das Prado-Museum in Madrid
URL;VALUE=URI:https://www.kultur-hamburg.de/veranstaltungen/das-prado-museum-in-madrid-448380
DESCRIPTION:Vortrag der Kunsthistorikerin Carmen Valiente Barra
UID:718b81b282f371087cc966e3d446b84d@kulturhamburg
END:VEVENT
END:VCALENDAR