BEGIN:VCALENDAR
VERSION:2.0
PRODID:-//STADTKULTUR HAMBURG//kultur-hamburg.de///DE
CALSCALE:GREGORIAN
BEGIN:VEVENT
X-WR-TIMEZONE:Europe/Berlin
DTSTART:20190920T190000
DTEND:20190920T210000
LOCATION:Instituto Cervantes Hamburg \, Chilehaus\, Eingang B\, 1. Etage\, Fischertwiete 1 \, 20095 Hamburg
DTSTAMP:20260424T035915
SUMMARY:Buchvorstellung mit Cervantes-Preisträger Sergio Ramírez
URL;VALUE=URI:https://www.kultur-hamburg.de/veranstaltungen/buchvorstellung-mit-cervantes-preistraeger-sergio-ramrez-448381
DESCRIPTION:Niemand weint um mich
UID:092e668e19f6d350516e2be499fdd616@kulturhamburg
END:VEVENT
END:VCALENDAR