BEGIN:VCALENDAR
VERSION:2.0
PRODID:-//STADTKULTUR HAMBURG//kultur-hamburg.de///DE
CALSCALE:GREGORIAN
BEGIN:VEVENT
X-WR-TIMEZONE:Europe/Berlin
DTSTART:20190913T193000
DTEND:20190913T213000
LOCATION:Kulturhaus Süderelbe \, Am Johannisland 2 \, 21147 Hamburg
DTSTAMP:20260423T170134
SUMMARY:Werner Pfeifer und die Hafenbande
URL;VALUE=URI:https://www.kultur-hamburg.de/veranstaltungen/werner-pfeifer-und-die-hafenbande-448389
DESCRIPTION:Er ist Journalist, Wohnschiffer und Musiker:
der Harburger Werner Pfeifer.

Im Harburger Binnenhafen...
UID:d22a329b91d4a3342aab9bee367a42a0@kulturhamburg
END:VEVENT
END:VCALENDAR