BEGIN:VCALENDAR
VERSION:2.0
PRODID:-//STADTKULTUR HAMBURG//kultur-hamburg.de///DE
CALSCALE:GREGORIAN
BEGIN:VEVENT
X-WR-TIMEZONE:Europe/Berlin
DTSTART:20190819T093000
DTEND:20190819T120000
LOCATION:
DTSTAMP:20260419T230949
SUMMARY:Das Klingende Mobil +++ AUSGEBUCHT!
URL;VALUE=URI:https://www.kultur-hamburg.de/veranstaltungen/das-klingende-mobil--ausgebucht!-448437
DESCRIPTION:Die Elbphilharmonie auf vier Rädern für Kita- und Vorschulgruppen
UID:e43f7ba63259919ff9e2e387f2365337@kulturhamburg
END:VEVENT
END:VCALENDAR