BEGIN:VCALENDAR
VERSION:2.0
PRODID:-//STADTKULTUR HAMBURG//kultur-hamburg.de///DE
CALSCALE:GREGORIAN
BEGIN:VEVENT
X-WR-TIMEZONE:Europe/Berlin
DTSTART:20190821T093000
DTEND:20190821T120000
LOCATION:
DTSTAMP:20260420T023235
SUMMARY:Das Klingende Mobil +++ AUSGEBUCHT!
URL;VALUE=URI:https://www.kultur-hamburg.de/veranstaltungen/das-klingende-mobil--ausgebucht!-448438
DESCRIPTION:Die Elbphilharmonie auf vier Rädern für Kita- und Vorschulgruppen
UID:8b79c3097ff63fe8853f2ca6d5a94727@kulturhamburg
END:VEVENT
END:VCALENDAR