BEGIN:VCALENDAR
VERSION:2.0
PRODID:-//STADTKULTUR HAMBURG//kultur-hamburg.de///DE
CALSCALE:GREGORIAN
BEGIN:VEVENT
X-WR-TIMEZONE:Europe/Berlin
DTSTART:20190903T190000
DTEND:20190903T210000
LOCATION:Kino 3001 \, Schanzenstraße 75 \, 20357 Hamburg
DTSTAMP:20260423T001943
SUMMARY:Cine club español | Spanischer Filmclub: No sé decir adiós (OmdtU)
URL;VALUE=URI:https://www.kultur-hamburg.de/veranstaltungen/cine-club-espaol--spanischer-filmclub-no-s-decir-adis-omdtu-448476
DESCRIPTION:
UID:842659ada96ed8da0ad4d0087139e8ff@kulturhamburg
END:VEVENT
END:VCALENDAR