BEGIN:VCALENDAR
VERSION:2.0
PRODID:-//STADTKULTUR HAMBURG//kultur-hamburg.de///DE
CALSCALE:GREGORIAN
BEGIN:VEVENT
X-WR-TIMEZONE:Europe/Berlin
DTSTART:20190914T180000
DTEND:20190915T200000
LOCATION:Lola Rogge Schule \, Landwehr 11-13 \, 22087 Hamburg
DTSTAMP:20260423T182956
SUMMARY:LOLA ROGGE SCHULE: TANZSOLI DER EXAMENSKLASSE
URL;VALUE=URI:https://www.kultur-hamburg.de/veranstaltungen/lola-rogge-schule-tanzsoli-der-examensklasse-448479
DESCRIPTION:
UID:5a8d3154c0c72c5f18d5b6863e882b75@kulturhamburg
END:VEVENT
END:VCALENDAR