BEGIN:VCALENDAR
VERSION:2.0
PRODID:-//STADTKULTUR HAMBURG//kultur-hamburg.de///DE
CALSCALE:GREGORIAN
BEGIN:VEVENT
X-WR-TIMEZONE:Europe/Berlin
DTSTART:20190915T180000
DTEND:20190916T200000
LOCATION:Lola Rogge Schule \, Landwehr 11-13 \, 22087 Hamburg
DTSTAMP:20260423T202125
SUMMARY:LOLA ROGGE SCHULE: TANZSOLI DER EXAMENSKLASSE
URL;VALUE=URI:https://www.kultur-hamburg.de/veranstaltungen/lola-rogge-schule-tanzsoli-der-examensklasse-448480
DESCRIPTION:
UID:02715ea9e68d1fe5ff762f8cbe7d0d65@kulturhamburg
END:VEVENT
END:VCALENDAR