BEGIN:VCALENDAR
VERSION:2.0
PRODID:-//STADTKULTUR HAMBURG//kultur-hamburg.de///DE
CALSCALE:GREGORIAN
BEGIN:VEVENT
X-WR-TIMEZONE:Europe/Berlin
DTSTART:20190907T193000
DTEND:20190907T213000
LOCATION:Kulturschloss Wandsbek \, Königsreihe 4 \, 22041 Hamburg
DTSTAMP:20260423T070116
SUMMARY:Kommissar Z – Autorenlesung mit Roland Blümel
URL;VALUE=URI:https://www.kultur-hamburg.de/veranstaltungen/kommissar-z--autorenlesung-mit-roland-bluemel-449082
DESCRIPTION:Rolnad Blümel schreibt vorwiegend Krimis und Thriller und ist Erfinder der Kommissar Z-Reihe, aus der er im Kulturschloss lesen wird.
UID:f31decd9f68fba1f04482707011e9c12@kulturhamburg
END:VEVENT
END:VCALENDAR