BEGIN:VCALENDAR
VERSION:2.0
PRODID:-//STADTKULTUR HAMBURG//kultur-hamburg.de///DE
CALSCALE:GREGORIAN
BEGIN:VEVENT
X-WR-TIMEZONE:Europe/Berlin
DTSTART:20190824T200000
DTEND:20190824T220000
LOCATION:KulturWerkstatt Harburg \, Kanalplatz 6 \, 21079 Hamburg
DTSTAMP:20260420T073800
SUMMARY:"The Rumprollers" bei der KWH JazzStage
URL;VALUE=URI:https://www.kultur-hamburg.de/veranstaltungen/the-rumprollers-bei-der-kwh-jazzstage-449094
DESCRIPTION:Die sechs engagierten MusikerInnen haben sich der groovige Seite des Jazz - beeinflusst von Soulmusi...
UID:5f11fb9aecbad2d97eb5b95bbdc57e24@kulturhamburg
END:VEVENT
END:VCALENDAR