BEGIN:VCALENDAR
VERSION:2.0
PRODID:-//STADTKULTUR HAMBURG//kultur-hamburg.de///DE
CALSCALE:GREGORIAN
BEGIN:VEVENT
X-WR-TIMEZONE:Europe/Berlin
DTSTART:20190915T150000
DTEND:20190915T154500
LOCATION:Theater Mär im Goldbekhaus \, Moorfuhrtweg 9 \, 22301 Hamburg
DTSTAMP:20260423T201952
SUMMARY:Die Königin der Farben
URL;VALUE=URI:https://www.kultur-hamburg.de/veranstaltungen/die-koenigin-der-farben-449236
DESCRIPTION:Traum und Wirklichkeit verschmelzen in dieser warmherzigen Gechichte um eine Königin, die das sanfte Blau, das wilde Rot und das warme aber auch manchmal zickige Gelb beherrscht. Bis alles durcheinander gerät…
UID:0b3344cfa89eb9d2b39e4bc326f50ec6@kulturhamburg
END:VEVENT
END:VCALENDAR