BEGIN:VCALENDAR
VERSION:2.0
PRODID:-//STADTKULTUR HAMBURG//kultur-hamburg.de///DE
CALSCALE:GREGORIAN
BEGIN:VEVENT
X-WR-TIMEZONE:Europe/Berlin
DTSTART:20190901T110000
DTEND:20190901T160000
LOCATION:Goldbekhaus \, Moorfuhrtweg 9 \, 22301 Hamburg
DTSTAMP:20260422T204801
SUMMARY:Aktion Sauberer Kanal | Stand Up Paddling
URL;VALUE=URI:https://www.kultur-hamburg.de/veranstaltungen/aktion-sauberer-kanal--stand-up-paddling-449450
DESCRIPTION:Damit Fische nicht im Tetra Pak wohnen und Enten nicht gegen Flaschen schwimmen müssen ...
UID:579c47e2588d865bc4ac24e9de45256a@kulturhamburg
END:VEVENT
END:VCALENDAR