BEGIN:VCALENDAR
VERSION:2.0
PRODID:-//STADTKULTUR HAMBURG//kultur-hamburg.de///DE
CALSCALE:GREGORIAN
BEGIN:VEVENT
X-WR-TIMEZONE:Europe/Berlin
DTSTART:20190906T200000
DTEND:20190906T223000
LOCATION:Goldbekhaus \, Moorfuhrtweg 9 \, 22301 Hamburg
DTSTAMP:20260423T051129
SUMMARY:Eduardo Macedo + Freunde
URL;VALUE=URI:https://www.kultur-hamburg.de/veranstaltungen/eduardo-macedo--freunde-449451
DESCRIPTION:Brasilianisches Hexengebräu!
UID:d023bf8bb3e85fc64bc31dafcef6e278@kulturhamburg
END:VEVENT
END:VCALENDAR