BEGIN:VCALENDAR
VERSION:2.0
PRODID:-//STADTKULTUR HAMBURG//kultur-hamburg.de///DE
CALSCALE:GREGORIAN
BEGIN:VEVENT
X-WR-TIMEZONE:Europe/Berlin
DTSTART:20190907T203000
DTEND:20190907T230000
LOCATION:Goldbekhaus \, Moorfuhrtweg 9 \, 22301 Hamburg
DTSTAMP:20260423T070116
SUMMARY:Lange Nacht der Literatur: Diary-Slam
URL;VALUE=URI:https://www.kultur-hamburg.de/veranstaltungen/lange-nacht-der-literatur-diary-slam-449452
DESCRIPTION:Ein spannender Einblick in Tagebücher
UID:f6079ca5ebf182f5807416d352f8b7aa@kulturhamburg
END:VEVENT
END:VCALENDAR