BEGIN:VCALENDAR
VERSION:2.0
PRODID:-//STADTKULTUR HAMBURG//kultur-hamburg.de///DE
CALSCALE:GREGORIAN
BEGIN:VEVENT
X-WR-TIMEZONE:Europe/Berlin
DTSTART:20190920T200000
DTEND:20190920T220000
LOCATION:Goldbekhaus \, Moorfuhrtweg 9 \, 22301 Hamburg
DTSTAMP:20260424T035858
SUMMARY:Armin Sengbusch: Menschlos glücklich | PREMIERE!
URL;VALUE=URI:https://www.kultur-hamburg.de/veranstaltungen/armin-sengbusch-menschlos-gluecklich--premiere!-449453
DESCRIPTION:Ein brachial lustiger Abend über die Schattenseiten der Menschheit
UID:67b3b6f8c1bda8fa843c91f3500508c9@kulturhamburg
END:VEVENT
END:VCALENDAR