BEGIN:VCALENDAR
VERSION:2.0
PRODID:-//STADTKULTUR HAMBURG//kultur-hamburg.de///DE
CALSCALE:GREGORIAN
BEGIN:VEVENT
X-WR-TIMEZONE:Europe/Berlin
DTSTART:20190921T180000
DTEND:20190921T210000
LOCATION:Lenzsiedlung e.V. \, Julius-Vosseler-Straße 193 \, 22527 Hamburg
DTSTAMP:20260424T052015
SUMMARY:Oldie Disco
URL;VALUE=URI:https://www.kultur-hamburg.de/veranstaltungen/oldie-disco-449506
DESCRIPTION:Endlich mal wieder tanzen nach Oldies aus den 50er, 60er und 70er Jahren
und später zur POP-Musik
UID:0545cc14e90b0f893f3d15ea7bfd6db9@kulturhamburg
END:VEVENT
END:VCALENDAR