BEGIN:VCALENDAR
VERSION:2.0
PRODID:-//STADTKULTUR HAMBURG//kultur-hamburg.de///DE
CALSCALE:GREGORIAN
BEGIN:VEVENT
X-WR-TIMEZONE:Europe/Berlin
DTSTART:20190921T203000
DTEND:20190921T230000
LOCATION:Goldbekhaus \, Moorfuhrtweg 9 \, 22301 Hamburg
DTSTAMP:20260424T053015
SUMMARY:Stella’s Morgenstern singt Heinrich Heine
URL;VALUE=URI:https://www.kultur-hamburg.de/veranstaltungen/stellaoes-morgenstern-singt-heinrich-heine-449930
DESCRIPTION:Beautiful Songs. Stimmungsvoll, abwechslungsreich und vielsaitig!
UID:e070d8e7bd0709eeef23216a28e7f30f@kulturhamburg
END:VEVENT
END:VCALENDAR