BEGIN:VCALENDAR
VERSION:2.0
PRODID:-//STADTKULTUR HAMBURG//kultur-hamburg.de///DE
CALSCALE:GREGORIAN
BEGIN:VEVENT
X-WR-TIMEZONE:Europe/Berlin
DTSTART:20190922T110000
DTEND:20190922T123000
LOCATION:Goldbekhaus \, Moorfuhrtweg 9 \, 22301 Hamburg
DTSTAMP:20260424T065238
SUMMARY:Singen ist stark!
URL;VALUE=URI:https://www.kultur-hamburg.de/veranstaltungen/singen-ist-stark!-449980
DESCRIPTION:Lachen, spielen, tanzen, springen beim Mitsingkonzert für Kinder & Familien
UID:d1a95fddbbe480675bfe4bdd12c373c9@kulturhamburg
END:VEVENT
END:VCALENDAR