BEGIN:VCALENDAR
VERSION:2.0
PRODID:-//STADTKULTUR HAMBURG//kultur-hamburg.de///DE
CALSCALE:GREGORIAN
BEGIN:VEVENT
X-WR-TIMEZONE:Europe/Berlin
DTSTART:20191221T210000
DTEND:20191222T040000
LOCATION:Zinnschmelze \, Maurienstraße 19 \, 22305 Hamburg
DTSTAMP:20260422T071952
SUMMARY:Salsa Night
URL;VALUE=URI:https://www.kultur-hamburg.de/veranstaltungen/salsa-night-450085
DESCRIPTION:mit Einführungstanzkurs
UID:91bb4422e7d6eaadb225777d5c0f73c6@kulturhamburg
END:VEVENT
END:VCALENDAR