BEGIN:VCALENDAR
VERSION:2.0
PRODID:-//STADTKULTUR HAMBURG//kultur-hamburg.de///DE
CALSCALE:GREGORIAN
BEGIN:VEVENT
X-WR-TIMEZONE:Europe/Berlin
DTSTART:20190830T200000
DTEND:20190830T220000
LOCATION:Kulturschloss Wandsbek \, Königsreihe 4 \, 22041 Hamburg
DTSTAMP:20260422T173251
SUMMARY:Nenad Nikolić – Akkordeonkonzert
URL;VALUE=URI:https://www.kultur-hamburg.de/veranstaltungen/nenad-nikoli--akkordeonkonzert-450270
DESCRIPTION:NENAD ist mit seiner Performance auf dem Akkordeon absolut konkurrenzlos und präsentiert eine Show, die man sich auf gar keinen Fall entgehen lassen sollte!
UID:1ddf8eceaa9e2e2f09784b5152baa96d@kulturhamburg
END:VEVENT
END:VCALENDAR