BEGIN:VCALENDAR
VERSION:2.0
PRODID:-//STADTKULTUR HAMBURG//kultur-hamburg.de///DE
CALSCALE:GREGORIAN
BEGIN:VEVENT
X-WR-TIMEZONE:Europe/Berlin
DTSTART:20190914T160000
DTEND:20190914T180000
LOCATION:Kulturschloss Wandsbek \, Königsreihe 4 \, 22041 Hamburg
DTSTAMP:20260423T225156
SUMMARY:„Die Koscher-Maschine“ – Jüdisches Puppentheater
URL;VALUE=URI:https://www.kultur-hamburg.de/veranstaltungen/die-koscher-maschine--juedisches-puppentheater-450348
DESCRIPTION:Mit lustigen Songs und vielen bunten Tieren erklären uns die „Bubales“ die jüdischen Speiseregeln.
UID:79bd1bf88c68aa327b6dbb72686edaee@kulturhamburg
END:VEVENT
END:VCALENDAR