BEGIN:VCALENDAR
VERSION:2.0
PRODID:-//STADTKULTUR HAMBURG//kultur-hamburg.de///DE
CALSCALE:GREGORIAN
BEGIN:VEVENT
X-WR-TIMEZONE:Europe/Berlin
DTSTART:20190922T190000
DTEND:20190922T210000
LOCATION:Kulturschloss Wandsbek \, Königsreihe 4 \, 22041 Hamburg
DTSTAMP:20260424T070001
SUMMARY:A Mekhaye – Klezmer-Konzert
URL;VALUE=URI:https://www.kultur-hamburg.de/veranstaltungen/a-mekhaye--klezmer-konzert-450350
DESCRIPTION:Mal melancholisch zart, mal mit Feuer zum Tanz - so zeichnet in intensiven Bildern dieses ambitionierte Trio seine jiddische Musik.
UID:8e471908bd3c2745f42f6cd44ec68617@kulturhamburg
END:VEVENT
END:VCALENDAR