BEGIN:VCALENDAR
VERSION:2.0
PRODID:-//STADTKULTUR HAMBURG//kultur-hamburg.de///DE
CALSCALE:GREGORIAN
BEGIN:VEVENT
X-WR-TIMEZONE:Europe/Berlin
DTSTART:20190821T180000
DTEND:20190821T190000
LOCATION:Horner Freiheit \, Am Gojenboom 46 \, 22111 Hamburg
DTSTAMP:20260420T023220
SUMMARY:Offenes Singen im Stadtteilhaus
URL;VALUE=URI:https://www.kultur-hamburg.de/veranstaltungen/offenes-singen-im-stadtteilhaus-451964
DESCRIPTION:Singen bringt einfach Spaß und befreit! Probieren Sie es aus, dann glauben Sie es auch.
UID:3041021941c1e4c2bde03fd53d5b6746@kulturhamburg
END:VEVENT
END:VCALENDAR