BEGIN:VCALENDAR
VERSION:2.0
PRODID:-//STADTKULTUR HAMBURG//kultur-hamburg.de///DE
CALSCALE:GREGORIAN
BEGIN:VEVENT
X-WR-TIMEZONE:Europe/Berlin
DTSTART:20190918T180000
DTEND:20190918T190000
LOCATION:Horner Freiheit \, Am Gojenboom 46 \, 22111 Hamburg
DTSTAMP:20260424T004323
SUMMARY:Offenes Singen im Stadtteilhaus
URL;VALUE=URI:https://www.kultur-hamburg.de/veranstaltungen/offenes-singen-im-stadtteilhaus-451965
DESCRIPTION:Singen bringt einfach Spaß und befreit! Probieren Sie es aus, dann glauben Sie es auch.
UID:7da08b500f9ad700933cdf5b61fe2f12@kulturhamburg
END:VEVENT
END:VCALENDAR