BEGIN:VCALENDAR
VERSION:2.0
PRODID:-//STADTKULTUR HAMBURG//kultur-hamburg.de///DE
CALSCALE:GREGORIAN
BEGIN:VEVENT
X-WR-TIMEZONE:Europe/Berlin
DTSTART:20190914T190000
DTEND:20190914T210000
LOCATION:Goldbekhaus \, Moorfuhrtweg 9 \, 22301 Hamburg
DTSTAMP:20260423T182956
SUMMARY:DIE HERBST-ZEITLOSEN: HAT’S GEKLINGELT?
URL;VALUE=URI:https://www.kultur-hamburg.de/veranstaltungen/die-herbst-zeitlosen-hatoes-geklingelt-453172
DESCRIPTION:Hat’s geklingelt? Über die Absurdität menschlicher Kommunikation im digitalen Zeitalter.
UID:b45160dba2b87c090ceee459cff73119@kulturhamburg
END:VEVENT
END:VCALENDAR