BEGIN:VCALENDAR
VERSION:2.0
PRODID:-//STADTKULTUR HAMBURG//kultur-hamburg.de///DE
CALSCALE:GREGORIAN
BEGIN:VEVENT
X-WR-TIMEZONE:Europe/Berlin
DTSTART:20190922T150000
DTEND:20190922T163000
LOCATION:Goldbekhaus \, Moorfuhrtweg 9 \, 22301 Hamburg
DTSTAMP:20260424T065455
SUMMARY:De Stilte: Flying Cow
URL;VALUE=URI:https://www.kultur-hamburg.de/veranstaltungen/de-stilte-flying-cow-453173
DESCRIPTION:Kühe können fliegen! Weltklassechoreographie aus den Niederlanden
UID:95d92b5b52e79d8c63b03c197ca1fb8e@kulturhamburg
END:VEVENT
END:VCALENDAR